Workbook
Name rangotd: OFFSET(#REF!,0,0,COUNTA(#REF!),COUNTA(#REF!))
Name sin_transacciones: #REF!
Name sin_transacciones: #REF!
Name sin_transacciones: #REF!
Name sin_transacciones: #REF!
Name sin_transacciones: #REF!
Name sin_transacciones: #REF!
Name sin_transacciones: #REF!
Name sin_transacciones: #REF!
Name sin_transacciones: #REF!

Sheet Portada Boletin diario
C13: Boletín diario de precios y volúmenes
C14: de frutas y hortalizas en mercados
C15: mayoristas
A18: 22 de septiembre de 2026
A41: TABLA DE CONTENIDO
A43: Frutas | G43: Página
B44: Mercado Mayorista Lo Valledor | G44: 3
B45: Vega Central Mapocho | G45: 4
B46: Macroferia Municipal de Talca | G46: 5
B47: Feria Mayorista La Calera | G47: 6
B48: Terminal Agropecuario La Palmera | G48: 7
B49: Sociedad Limarí Comercializadora del Agro | G49: 8
B50: Vega Monumental de Concepción | G50: 9
B51: Feria Lagunita de Puerto Montt | G51: 10
B52: Vega Modelo de Temuco | G52: 11
B53: Terminal Hortofrutícola de Chillán | G53: 12
B54: Agrícola del Norte de Arica | G54: 13
A55: Hortalizas | G55: Página
B56: Mercado Mayorista Lo Valledor | G56: 14
B57: Vega Central Mapocho | G57: 15
B58: Mapocho Venta Directa | G58: 16
B59: Feria Mayorista La Calera | G59: 17
B60: Terminal Agropecuario La Palmera | G60: 18
B61: Sociedad Limarí Comercializadora del Agro | G61: 19
B62: Macroferia Municipal de Talca | G62: 20
B63: Vega Monumental de Concepción | G63: 21
B64: Feria Lagunita de Puerto Montt | G64: 22
B65: Vega Modelo de Temuco | G65: 23
B66: Terminal Hortofrutícola de Chillán | G66: 24
B67: Agrícola del Norte de Arica | G67: 25
A69: Carlos Seguel Celis - Unidad Noticias de Mercado
A72: Publicación de la Oficina de Estudios y Políticas Agrarias (Odepa)
A73: del Ministerio de Agricultura, Gobierno de Chile
A75: Directora y Representante Legal (S)
A76: Claudio Farías Pérez
A80: Se puede reproducir total o parcialmente citando la fuente
A82: Teatinos 40, piso 8. Santiago, Chile
A83: Teléfono :(56- 2) 3973000
A85: www.odepa.gob.cl

Sheet Frutas_Lo Valledor
A2: Frutas
A3: Detalle diario de transacciones producto - variedad - calidad
A4: Día: | B4: =TODAY() -> 46287
A5: Precios con IVA
A7: Mercado: Mayorista Lo Valledor
A9: Producto | B9: Variedad/Tipo | C9: Calidad | D9: Volumen | E9: Precio máximo | F9: Precio mínimo | G9: Precio promedio | H9: Unidad de comercialización | I9: Origen
A10: Arándano (blue) | B10: Sin especificar | C10: Especial | D10: 150 | E10: 20000 | F10: 20000 | G10: 20000 | H10: $/bandeja 2 kilos | I10: Provincia de Limarí
A11: Chirimoya | B11: Cultivar IV Región | C11: Especial | D11: 80 | E11: 26000 | F11: 26000 | G11: 26000 | H11: $/bandeja 10 kilos | I11: Provincia de Limarí
A12: Chirimoya | B12: Cultivar IV Región | C12: Extra (doble especial) | D12: 60 | E12: 28000 | F12: 28000 | G12: 28000 | H12: $/bandeja 10 kilos | I12: Provincia de Limarí
A13: Chirimoya | B13: Cultivar IV Región | C13: Primera | D13: 140 | E13: 24000 | F13: 24000 | G13: 24000 | H13: $/bandeja 10 kilos | I13: Provincia de Limarí
A14: Chirimoya | B14: Cultivar IV Región | C14: Segunda | D14: 100 | E14: 22000 | F14: 22000 | G14: 22000 | H14: $/bandeja 10 kilos | I14: Provincia de Limarí
A15: Chirimoya | B15: Cultivar IV Región | C15: Tercera | D15: 90 | E15: 20000 | F15: 20000 | G15: 20000 | H15: $/bandeja 10 kilos | I15: Provincia de Limarí
A16: Frutilla | B16: Sin especificar | C16: Especial | D16: 450 | E16: 18000 | F16: 16000 | G16: 17000 | H16: $/bandeja 7 kilos | I16: Provincia de Melipilla
A17: Frutilla | B17: Sin especificar | C17: Primera | D17: 600 | E17: 15000 | F17: 13000 | G17: 14000 | H17: $/bandeja 7 kilos | I17: Provincia de Melipilla
A18: Frutilla | B18: Sin especificar | C18: Segunda | D18: 300 | E18: 10000 | F18: 8000 | G18: 9000 | H18: $/bandeja 7 kilos | I18: Provincia de Melipilla
A19: Frutilla | B19: Sin especificar | C19: Tercera | D19: 250 | E19: 6000 | F19: 5000 | G19: 5500 | H19: $/bandeja 7 kilos | I19: Provincia de Melipilla
A20: Limón | B20: Sin especificar | C20: 1a amarillo | D20: 36 | E20: 150000 | F20: 140000 | G20: 145000 | H20: $/bins (450 kilos) | I20: Provincia de Limarí
A21: Limón | B21: Sin especificar | C21: 1a amarillo | D21: 475 | E21: 6000 | F21: 5700 | G21: 5848 | H21: $/malla 18 kilos | I21: Cabildo
... A111: Uva | B111: Superior Seedless | C111: Primera | D111: 150 | E111: 22000 | F111: 22000 | G111: 22000 | H111: $/bandeja 8 kilos | I111: Provincia de San Felipe de Aconcagua
A112: Fuente: elaborado por Odepa.

Sheet Frutas_Vega Central Mapocho
A2: Frutas
A3: Detalle diario de transacciones producto - variedad - calidad
A4: Día: | B4: =+'Frutas_Lo Valledor'!$B$4 -> 46287
A5: Precios con IVA
A7: Mercado: Vega Central Mapocho
A9: Producto | B9: Variedad/Tipo | C9: Calidad | D9: Volumen | E9: Precio máximo | F9: Precio mínimo | G9: Precio promedio | H9: Unidad de comercialización | I9: Origen
A10: Arándano (blue) | B10: Sin especificar | C10: Primera | D10: 100 | E10: 14000 | F10: 14000 | G10: 14000 | H10: $/bandeja 12 canastillos 125 gramos | I10: Provincia de Limarí
A11: Arándano (blue) | B11: Sin especificar | C11: Segunda | D11: 80 | E11: 12000 | F11: 12000 | G11: 12000 | H11: $/bandeja 12 canastillos 125 gramos | I11: Provincia de Limarí
A12: Chirimoya | B12: Cultivar IV Región | C12: Especial | D12: 50 | E12: 20000 | F12: 20000 | G12: 20000 | H12: $/bandeja 8 kilos | I12: Provincia del Elquí
A13: Chirimoya | B13: Cultivar IV Región | C13: Extra (doble especial) | D13: 40 | E13: 24000 | F13: 24000 | G13: 24000 | H13: $/bandeja 8 kilos | I13: Provincia del Elquí
A14: Chirimoya | B14: Cultivar IV Región | C14: Primera | D14: 100 | E14: 16000 | F14: 16000 | G14: 16000 | H14: $/bandeja 8 kilos | I14: Provincia del Elquí
A15: Chirimoya | B15: Cultivar IV Región | C15: Segunda | D15: 120 | E15: 12000 | F15: 12000 | G15: 12000 | H15: $/bandeja 8 kilos | I15: Provincia del Elquí
A16: Chirimoya | B16: Cultivar IV Región | C16: Tercera | D16: 140 | E16: 9600 | F16: 9600 | G16: 9600 | H16: $/bandeja 8 kilos | I16: Provincia del Elquí
A17: Frutilla | B17: Sin especificar | C17: Especial | D17: 120 | E17: 24000 | F17: 24000 | G17: 24000 | H17: $/bandeja 7 kilos | I17: Provincia de Melipilla
A18: Frutilla | B18: Sin especificar | C18: Primera | D18: 200 | E18: 20000 | F18: 20000 | G18: 20000 | H18: $/bandeja 7 kilos | I18: Provincia de Melipilla
A19: Frutilla | B19: Sin especificar | C19: Segunda | D19: 180 | E19: 15000 | F19: 15000 | G19: 15000 | H19: $/bandeja 7 kilos | I19: Provincia de Melipilla
A20: Kiwi | B20: Hayward | C20: Especial | D20: 50 | E20: 16000 | F20: 16000 | G20: 16000 | H20: $/bandeja 10 kilos | I20: Región de O'Higgins
A21: Kiwi | B21: Hayward | C21: Primera | D21: 80 | E21: 14000 | F21: 14000 | G21: 14000 | H21: $/bandeja 10 kilos | I21: Región de O'Higgins
... A57: Uva | B57: Red Globe | C57: Segunda | D57: 80 | E57: 10000 | F57: 10000 | G57: 10000 | H57: $/bandeja 8 kilos | I57: Región Metropolitana
A58: Fuente: elaborado por Odepa.

Sheet Frutas_Macroferia Talca
A2: Frutas
A3: Detalle diario de transacciones producto - variedad - calidad
A4: Día: | B4: =+'Frutas_Lo Valledor'!$B$4 -> 46287
A5: Precios con IVA
A7: Mercado: Macroferia Municipal de Talca
A9: Producto | B9: Variedad/Tipo | C9: Calidad | D9: Volumen | E9: Precio máximo | F9: Precio mínimo | G9: Precio promedio | H9: Unidad de comercialización | I9: Origen
A10: Chirimoya | B10: Cultivar IV Región | C10: Primera | D10: 250 | E10: 25000 | F10: 25000 | G10: 25000 | H10: $/bandeja 10 kilos | I10: Provincia de Limarí
A11: Chirimoya | B11: Cultivar IV Región | C11: Segunda | D11: 150 | E11: 22000 | F11: 22000 | G11: 22000 | H11: $/bandeja 10 kilos | I11: Provincia de Limarí
A12: Frutilla | B12: Sin especificar | C12: Primera | D12: 300 | E12: 18000 | F12: 18000 | G12: 18000 | H12: $/bandeja 7 kilos | I12: Provincia de Melipilla
A13: Frutilla | B13: Sin especificar | C13: Tercera | D13: 100 | E13: 10000 | F13: 10000 | G13: 10000 | H13: $/bandeja 7 kilos | I13: Provincia de Melipilla
A14: Kiwi | B14: Hayward | C14: Especial | D14: 180 | E14: 22000 | F14: 22000 | G14: 22000 | H14: $/bandeja 18 kilos | I14: Provincia de Curicó
A15: Kiwi | B15: Hayward | C15: Primera | D15: 200 | E15: 20000 | F15: 20000 | G15: 20000 | H15: $/bandeja 18 kilos | I15: Provincia de Curicó
A16: Limón | B16: Sin especificar | C16: 1a amarillo | D16: 360 | E16: 6000 | F16: 6000 | G16: 6000 | H16: $/bandeja 18 kilos | I16: Provincia de Limarí
A17: Limón | B17: Sin especificar | C17: 1a amarillo | D17: 400 | E17: 6000 | F17: 6000 | G17: 6000 | H17: $/bandeja 18 kilos | I17: Región de O'Higgins
A18: Limón | B18: Sin especificar | C18: 1a amarillo | D18: 300 | E18: 6000 | F18: 6000 | G18: 6000 | H18: $/malla 18 kilos | I18: Provincia de Limarí
A19: Manzana | B19: Fuji royal | C19: Especial | D19: 320 | E19: 15000 | F19: 15000 | G19: 15000 | H19: $/bandeja 15 kilos granel | I19: Provincia de Curicó
A20: Manzana | B20: Fuji royal | C20: Primera | D20: 290 | E20: 13000 | F20: 13000 | G20: 13000 | H20: $/bandeja 15 kilos granel | I20: Provincia de Curicó
A21: Manzana | B21: Granny Smith | C21: Especial | D21: 280 | E21: 15000 | F21: 15000 | G21: 15000 | H21: $/bandeja 15 kilos granel | I21: Provincia de Curicó
... A38: Plátano | B38: Sin especificar | C38: Primera Pintón | D38: 1000 | E38: 20000 | F38: 20000 | G38: 20000 | H38: $/caja 20 kilos | I38: Ecuador
A39: Fuente: elaborado por Odepa.

Sheet Frutas_Femacal
A2: Frutas
A3: Detalle diario de transacciones producto - variedad - calidad
A4: Día: | B4: =+'Frutas_Lo Valledor'!$B$4 -> 46287
A5: Precios con IVA
A7: Mercado: Feria Mayorista La Calera (Femacal)
A9: Producto | B9: Variedad/Tipo | C9: Calidad | D9: Volumen | E9: Precio máximo | F9: Precio mínimo | G9: Precio promedio | H9: Unidad de comercialización | I9: Origen
A10: Chirimoya | B10: Cultivar IV Región | C10: Especial | D10: 40 | E10: 25000 | F10: 25000 | G10: 25000 | H10: $/bandeja 10 kilos | I10: Provincia de Limarí
A11: Chirimoya | B11: Cultivar IV Región | C11: Primera | D11: 50 | E11: 23000 | F11: 23000 | G11: 23000 | H11: $/bandeja 10 kilos | I11: Provincia de Limarí
A12: Chirimoya | B12: Cultivar IV Región | C12: Segunda | D12: 40 | E12: 20000 | F12: 20000 | G12: 20000 | H12: $/bandeja 10 kilos | I12: Provincia de Limarí
A13: Frutilla | B13: Sin especificar | C13: Especial | D13: 50 | E13: 20000 | F13: 20000 | G13: 20000 | H13: $/bandeja 7 kilos | I13: Provincia de Melipilla
A14: Kiwi | B14: Hayward | C14: Especial | D14: 60 | E14: 20000 | F14: 20000 | G14: 20000 | H14: $/bandeja 10 kilos | I14: Provincia de Curicó
A15: Kiwi | B15: Hayward | C15: Primera | D15: 50 | E15: 17000 | F15: 17000 | G15: 17000 | H15: $/bandeja 10 kilos | I15: Provincia de Curicó
A16: Kiwi | B16: Hayward | C16: Segunda | D16: 50 | E16: 14000 | F16: 14000 | G16: 14000 | H16: $/bandeja 10 kilos | I16: Provincia de Curicó
A17: Limón | B17: Sin especificar | C17: 1a amarillo | D17: 160 | E17: 4000 | F17: 3800 | G17: 3906 | H17: $/bandeja 15 kilos | I17: Provincia de Quillota
A18: Limón | B18: Sin especificar | C18: 2a amarillo | D18: 165 | E18: 3000 | F18: 2700 | G18: 2864 | H18: $/bandeja 15 kilos | I18: Provincia de Quillota
A19: Mandarina | B19: Murcott | C19: Especial | D19: 56 | E19: 7000 | F19: 7000 | G19: 7000 | H19: $/bandeja 10 kilos | I19: Provincia de Quillota
A20: Mandarina | B20: Murcott | C20: Primera | D20: 68 | E20: 6000 | F20: 6000 | G20: 6000 | H20: $/bandeja 10 kilos | I20: Provincia de Quillota
A21: Mandarina | B21: Murcott | C21: Segunda | D21: 58 | E21: 5000 | F21: 5000 | G21: 5000 | H21: $/bandeja 10 kilos | I21: Provincia de Quillota
... A41: Plátano | B41: Sin especificar | C41: Primera Pintón | D41: 360 | E41: 21000 | F41: 20000 | G41: 20333 | H41: $/caja 20 kilos | I41: Ecuador
A42: Fuente: elaborado por Odepa.

Sheet Frutas_La Palmera
A2: Frutas
A3: Detalle diario de transacciones producto - variedad - calidad
A4: Día: | B4: =+'Frutas_Lo Valledor'!$B$4 -> 46287
A5: Precios con IVA
A7: Mercado: Terminal Agropecuario La Palmera
A9: Producto | B9: Variedad/Tipo | C9: Calidad | D9: Volumen | E9: Precio máximo | F9: Precio mínimo | G9: Precio promedio | H9: Unidad de comercialización | I9: Origen
A10: Chirimoya | B10: Cultivar IV Región | C10: Especial | D10: 300 | E10: 24000 | F10: 23000 | G10: 23500 | H10: $/bandeja 10 kilos | I10: Provincia de Limarí
A11: Chirimoya | B11: Cultivar IV Región | C11: Primera | D11: 240 | E11: 21000 | F11: 20000 | G11: 20500 | H11: $/bandeja 10 kilos | I11: Provincia de Limarí
A12: Chirimoya | B12: Cultivar IV Región | C12: Segunda | D12: 200 | E12: 18000 | F12: 17000 | G12: 17500 | H12: $/bandeja 10 kilos | I12: Provincia de Limarí
A13: Chirimoya | B13: Cultivar IV Región | C13: Tercera | D13: 200 | E13: 15000 | F13: 14000 | G13: 14500 | H13: $/bandeja 10 kilos | I13: Provincia de Limarí
A14: Mango | B14: Sin especificar | C14: Especial | D14: 560 | E14: 14000 | F14: 13000 | G14: 13500 | H14: $/bandeja 4 kilos | I14: Brasil
A15: Mango | B15: Sin especificar | C15: Primera | D15: 560 | E15: 14000 | F15: 13000 | G15: 13500 | H15: $/bandeja 4 kilos | I15: Brasil
A16: Mango | B16: Sin especificar | C16: Segunda | D16: 560 | E16: 14000 | F16: 13000 | G16: 13500 | H16: $/bandeja 4 kilos | I16: Brasil
A17: Manzana | B17: Fuji royal | C17: Especial | D17: 18 | E17: 380000 | F17: 370000 | G17: 375000 | H17: $/bins (400 kilos) | I17: Región de O'Higgins
A18: Manzana | B18: Fuji royal | C18: Primera | D18: 16 | E18: 350000 | F18: 340000 | G18: 345000 | H18: $/bins (400 kilos) | I18: Región de O'Higgins
A19: Manzana | B19: Fuji royal | C19: Segunda | D19: 14 | E19: 330000 | F19: 320000 | G19: 325000 | H19: $/bins (400 kilos) | I19: Región de O'Higgins
A20: Manzana | B20: Granny Smith | C20: Especial | D20: 16 | E20: 360000 | F20: 350000 | G20: 355000 | H20: $/bins (400 kilos) | I20: Región de O'Higgins
A21: Manzana | B21: Granny Smith | C21: Primera | D21: 12 | E21: 330000 | F21: 320000 | G21: 325000 | H21: $/bins (400 kilos) | I21: Región de O'Higgins
... A32: Piña | B32: Caramelo | C32: Segunda | D32: 432 | E32: 28000 | F32: 27000 | G32: 27500 | H32: $/caja 14 unidades | I32: Ecuador
A33: Fuente: elaborado por Odepa.

Sheet Frutas_Solcoagro
A2: Frutas
A3: Detalle diario de transacciones producto - variedad - calidad
A4: Día: | B4: =IF(TEXT(TODAY(),"dddd")="miércoles",TODAY()-1,IF(TEXT(TODAY(),"dddd")="jueves",TODAY()-1,TODAY())) -> 46287
A5: Precios con IVA
A7: Mercado: Comercializadora del Agro de Limarí (Solcoagro)
A9: Producto | B9: Variedad/Tipo | C9: Calidad | D9: Volumen | E9: Precio máximo | F9: Precio mínimo | G9: Precio promedio | H9: Unidad de comercialización | I9: Origen
A10: Sin transacciones mayoristas

Sheet Frutas_Vega Monumental
A2: Frutas
A3: Detalle diario de transacciones producto - variedad - calidad
A4: Día: | B4: =+'Frutas_Lo Valledor'!$B$4 -> 46287
A5: Precios con IVA
A7: Mercado: Vega Monumental de Concepción
A9: Producto | B9: Variedad/Tipo | C9: Calidad | D9: Volumen | E9: Precio máximo | F9: Precio mínimo | G9: Precio promedio | H9: Unidad de comercialización | I9: Origen
A10: Limón | B10: Sin especificar | C10: 1a amarillo | D10: 100 | E10: 7000 | F10: 7000 | G10: 7000 | H10: $/malla 18 kilos | I10: Provincia de Melipilla
A11: Limón | B11: Sin especificar | C11: 2a amarillo | D11: 100 | E11: 5000 | F11: 5000 | G11: 5000 | H11: $/malla 18 kilos | I11: Provincia de Melipilla
A12: Mandarina | B12: Murcott | C12: Primera | D12: 100 | E12: 8000 | F12: 8000 | G12: 8000 | H12: $/bandeja 18 kilos | I12: Región de O'Higgins
A13: Mandarina | B13: Murcott | C13: Segunda | D13: 50 | E13: 6000 | F13: 6000 | G13: 6000 | H13: $/bandeja 18 kilos | I13: Región de O'Higgins
A14: Manzana | B14: Fuji royal | C14: Primera | D14: 50 | E14: 13000 | F14: 13000 | G14: 13000 | H14: $/bandeja 15 kilos granel | I14: Región de O'Higgins
A15: Manzana | B15: Fuji royal | C15: Segunda | D15: 50 | E15: 11000 | F15: 11000 | G15: 11000 | H15: $/bandeja 15 kilos granel | I15: Región de O'Higgins
A16: Manzana | B16: Granny Smith | C16: Primera | D16: 50 | E16: 12000 | F16: 12000 | G16: 12000 | H16: $/bandeja 15 kilos granel | I16: Región de O'Higgins
A17: Manzana | B17: Granny Smith | C17: Segunda | D17: 50 | E17: 10000 | F17: 10000 | G17: 10000 | H17: $/bandeja 15 kilos granel | I17: Región de O'Higgins
A18: Naranja | B18: Navel Late | C18: Primera | D18: 100 | E18: 8000 | F18: 8000 | G18: 8000 | H18: $/bandeja 15 kilos granel | I18: Región de O'Higgins
A19: Naranja | B19: Navel Late | C19: Segunda | D19: 50 | E19: 6000 | F19: 6000 | G19: 6000 | H19: $/bandeja 15 kilos granel | I19: Región de O'Higgins
A20: Palta | B20: Hass | C20: Especial | D20: 50 | E20: 40000 | F20: 40000 | G20: 40000 | H20: $/bandeja 10 kilos | I20: Perú
A21: Palta | B21: Hass | C21: Primera | D21: 50 | E21: 38000 | F21: 38000 | G21: 38000 | H21: $/bandeja 10 kilos | I21: Perú
... A29: Plátano | B29: Sin especificar | C29: Primera Pintón | D29: 300 | E29: 22000 | F29: 22000 | G29: 22000 | H29: $/caja 20 kilos | I29: Ecuador
A30: Fuente: elaborado por Odepa.

Sheet Frutas_Lagunita Pto.Montt
A2: Frutas
A3: Detalle diario de transacciones producto - variedad - calidad
A4: Día: | B4: =+'Frutas_Lo Valledor'!$B$4 -> 46287
A5: Precios con IVA
A7: Mercado: Feria Lagunita de Puerto Montt
A9: Producto | B9: Variedad/Tipo | C9: Calidad | D9: Volumen | E9: Precio máximo | F9: Precio mínimo | G9: Precio promedio | H9: Unidad de comercialización | I9: Origen
A10: Kiwi | B10: Hayward | C10: Especial | D10: 300 | E10: 24000 | F10: 24000 | G10: 24000 | H10: $/caja 15 kilos | I10: Región de O'Higgins
A11: Kiwi | B11: Hayward | C11: Primera | D11: 350 | E11: 21000 | F11: 21000 | G11: 21000 | H11: $/caja 15 kilos | I11: Región de O'Higgins
A12: Kiwi | B12: Hayward | C12: Segunda | D12: 350 | E12: 18000 | F12: 18000 | G12: 18000 | H12: $/caja 15 kilos | I12: Región de O'Higgins
A13: Limón | B13: Sin especificar | C13: 1a plateado | D13: 2300 | E13: 11000 | F13: 10000 | G13: 10500 | H13: $/malla 18 kilos | I13: Provincia de Melipilla
A14: Mandarina | B14: Murcott | C14: Primera | D14: 350 | E14: 10000 | F14: 10000 | G14: 10000 | H14: $/caja 18 kilos | I14: Región de O'Higgins
A15: Mango | B15: Sin especificar | C15: Primera | D15: 100 | E15: 15000 | F15: 15000 | G15: 15000 | H15: $/bandeja 4 kilos | I15: Brasil
A16: Manzana | B16: Fuji royal | C16: Primera | D16: 350 | E16: 18000 | F16: 18000 | G16: 18000 | H16: $/caja 16 kilos empedrada | I16: Provincia de Curicó
A17: Manzana | B17: Granny Smith | C17: Primera | D17: 350 | E17: 18000 | F17: 18000 | G17: 18000 | H17: $/caja 15 kilos empedrada | I17: Provincia de Curicó
A18: Manzana | B18: Pink Lady | C18: Primera | D18: 350 | E18: 18000 | F18: 18000 | G18: 18000 | H18: $/caja 15 kilos empedrada | I18: Provincia de Curicó
A19: Naranja | B19: Navel Late | C19: Primera | D19: 400 | E19: 12000 | F19: 12000 | G19: 12000 | H19: $/caja 15 kilos empedrada | I19: Región de O'Higgins
A20: Naranja | B20: Navel Late | C20: Segunda | D20: 400 | E20: 9000 | F20: 9000 | G20: 9000 | H20: $/malla 18 kilos | I20: Región de O'Higgins
A21: Palta | B21: Hass | C21: 1a nueva(o) | D21: 300 | E21: 5200 | F21: 5000 | G21: 5100 | H21: $/kilo (en caja de 17 kilos) | I21: Provincia de Quillota
... A26: Pomelo | B26: Start Ruby | C26: Primera | D26: 150 | E26: 18000 | F26: 18000 | G26: 18000 | H26: $/caja 14 kilos empedrada | I26: Región de O'Higgins
A27: Fuente: elaborado por Odepa.

Sheet Frutas_Vega Modelo Temuco
A2: Frutas
A3: Detalle diario de transacciones producto - variedad - calidad
A4: Día: | B4: =+'Frutas_Lo Valledor'!$B$4 -> 46287
A5: Precios con IVA
A7: Mercado: Vega Modelo de Temuco
A9: Producto | B9: Variedad/Tipo | C9: Calidad | D9: Volumen | E9: Precio máximo | F9: Precio mínimo | G9: Precio promedio | H9: Unidad de comercialización | I9: Origen
A10: Chirimoya | B10: Cultivar IV Región | C10: Primera | D10: 150 | E10: 3200 | F10: 3000 | G10: 3107 | H10: $/kilo (en caja de 15 kilos) | I10: Provincia del Elquí
A11: Frutilla | B11: Sin especificar | C11: Primera | D11: 100 | E11: 25000 | F11: 25000 | G11: 25000 | H11: $/bandeja 7 kilos | I11: Provincia de Melipilla
A12: Granada | B12: Wonderfull | C12: Primera | D12: 60 | E12: 28000 | F12: 28000 | G12: 28000 | H12: $/bandeja 10 kilos granel | I12: Provincia de Limarí
A13: Kiwi | B13: Hayward | C13: Primera | D13: 120 | E13: 26000 | F13: 26000 | G13: 26000 | H13: $/bandeja 18 kilos | I13: Región de O'Higgins
A14: Limón | B14: Sin especificar | C14: 1a amarillo | D14: 150 | E14: 9000 | F14: 9000 | G14: 9000 | H14: $/bandeja 15 kilos | I14: Región de O'Higgins
A15: Limón | B15: Sin especificar | C15: 1a amarillo | D15: 8 | E15: 160000 | F15: 150000 | G15: 153750 | H15: $/bins (450 kilos) | I15: Región de O'Higgins
A16: Mandarina | B16: Murcott | C16: Primera | D16: 80 | E16: 12000 | F16: 12000 | G16: 12000 | H16: $/bandeja 18 kilos | I16: Región de O'Higgins
A17: Mandarina | B17: Murcott | C17: Segunda | D17: 5 | E17: 270000 | F17: 270000 | G17: 270000 | H17: $/bins (450 kilos) | I17: Región de O'Higgins
A18: Manzana | B18: Ambrosia | C18: Calibre 80 | D18: 140 | E18: 22000 | F18: 22000 | G18: 22000 | H18: $/caja 18 kilos embalada | I18: Región del Maule
A19: Manzana | B19: Fuji royal | C19: Calibre 80 | D19: 100 | E19: 28000 | F19: 28000 | G19: 28000 | H19: $/caja 18 kilos embalada | I19: Región del Maule
A20: Manzana | B20: Fuji royal | C20: Primera | D20: 60 | E20: 16000 | F20: 16000 | G20: 16000 | H20: $/bandeja 15 kilos granel | I20: Región del Maule
A21: Manzana | B21: Granny Smith | C21: Calibre 80 | D21: 100 | E21: 26000 | F21: 26000 | G21: 26000 | H21: $/caja 18 kilos embalada | I21: Región del Maule
... A39: Pomelo | B39: Start Ruby | C39: Primera | D39: 40 | E39: 18000 | F39: 18000 | G39: 18000 | H39: $/bandeja 15 kilos granel | I39: Región de O'Higgins
A40: Fuente: elaborado por Odepa.

Sheet Frutas_Agrochillan
A2: Frutas
A3: Detalle diario de transacciones producto - variedad - calidad
A4: Día: | B4: =+'Frutas_Lo Valledor'!$B$4 -> 46287
A5: Precios con IVA
A7: Mercado: Terminal Hortofrutícola de Chillán
A9: Producto | B9: Variedad/Tipo | C9: Calidad | D9: Volumen | E9: Precio máximo | F9: Precio mínimo | G9: Precio promedio | H9: Unidad de comercialización | I9: Origen
A10: Frutilla | B10: Sin especificar | C10: Primera | D10: 100 | E10: 22000 | F10: 20000 | G10: 21600 | H10: $/bandeja 7 kilos | I10: Provincia de Melipilla
A11: Kiwi | B11: Hayward | C11: Primera | D11: 50 | E11: 20000 | F11: 20000 | G11: 20000 | H11: $/bandeja 18 kilos | I11: Provincia de Curicó
A12: Limón | B12: Sin especificar | C12: 1a amarillo | D12: 100 | E12: 7000 | F12: 7000 | G12: 7000 | H12: $/bandeja 15 kilos | I12: Región de O'Higgins
A13: Limón | B13: Sin especificar | C13: 2a amarillo | D13: 100 | E13: 6000 | F13: 6000 | G13: 6000 | H13: $/bandeja 15 kilos | I13: Región de O'Higgins
A14: Mandarina | B14: Murcott | C14: Primera | D14: 50 | E14: 8000 | F14: 8000 | G14: 8000 | H14: $/bandeja 18 kilos | I14: Región de O'Higgins
A15: Mango | B15: Sin especificar | C15: Primera | D15: 50 | E15: 14000 | F15: 13000 | G15: 13400 | H15: $/bandeja 4 kilos | I15: Brasil
A16: Manzana | B16: Fuji royal | C16: Primera | D16: 80 | E16: 12000 | F16: 12000 | G16: 12000 | H16: $/bandeja 15 kilos granel | I16: Provincia de Curicó
A17: Manzana | B17: Fuji royal | C17: Segunda | D17: 50 | E17: 10000 | F17: 10000 | G17: 10000 | H17: $/bandeja 15 kilos granel | I17: Provincia de Curicó
A18: Manzana | B18: Granny Smith | C18: Primera | D18: 50 | E18: 12000 | F18: 12000 | G18: 12000 | H18: $/bandeja 15 kilos granel | I18: Provincia de Curicó
A19: Manzana | B19: Granny Smith | C19: Segunda | D19: 50 | E19: 10000 | F19: 10000 | G19: 10000 | H19: $/bandeja 15 kilos granel | I19: Provincia de Curicó
A20: Naranja | B20: Navel Late | C20: Primera | D20: 100 | E20: 7000 | F20: 7000 | G20: 7000 | H20: $/bandeja 15 kilos granel | I20: Región de O'Higgins
A21: Palta | B21: Hass | C21: 1a nueva(o) | D21: 80 | E21: 3200 | F21: 3200 | G21: 3200 | H21: $/kilo (en caja de 17 kilos) | I21: Provincia de Quillota
... A23: Plátano | B23: Sin especificar | C23: Primera Pintón | D23: 150 | E23: 23000 | F23: 23000 | G23: 23000 | H23: $/caja 20 kilos | I23: Ecuador
A24: Fuente: elaborado por Odepa.

Sheet Frutas_Agronor
A2: Frutas
A3: Detalle diario de transacciones producto - variedad - calidad
A4: Día: | B4: =+'Frutas_Lo Valledor'!$B$4 -> 46287
A5: Precios con IVA
A7: Mercado: Agrícola del Norte de Arica
A9: Producto | B9: Variedad/Tipo | C9: Calidad | D9: Volumen | E9: Precio máximo | F9: Precio mínimo | G9: Precio promedio | H9: Unidad de comercialización | I9: Origen
A10: Guayaba | B10: Sin especificar | C10: Segunda | D10: 35 | E10: 14000 | F10: 12000 | G10: 12857 | H10: $/caja 10 kilos | I10: Región de Arica y Parinacota
A11: Guayaba | B11: Sin especificar | C11: Tercera | D11: 40 | E11: 11000 | F11: 8000 | G11: 8750 | H11: $/caja 10 kilos | I11: Región de Arica y Parinacota
A12: Tuna | B12: Sin especificar | C12: Segunda | D12: 140 | E12: 38000 | F12: 36000 | G12: 37143 | H12: $/caja 18 kilos | I12: Región de Coquimbo
A13: Fuente: elaborado por Odepa.

Sheet Hortalizas_Lo Valledor
A2: Hortalizas
A3: Detalle diario de transacciones producto - variedad - calidad
A4: Día: | B4: 46287
A5: Precios con IVA
A7: Mercado: Mayorista Lo Valledor
A9: Producto | B9: Variedad/Tipo | C9: Calidad | D9: Volumen | E9: Precio máximo | F9: Precio mínimo | G9: Precio promedio | H9: Unidad de comercialización | I9: Origen
A10: Acelga | B10: Sin especificar | C10: Primera | D10: 340 | E10: 24000 | F10: 24000 | G10: 24000 | H10: $/docena de atados | I10: Región Metropolitana
A11: Acelga | B11: Sin especificar | C11: Segunda | D11: 140 | E11: 18000 | F11: 18000 | G11: 18000 | H11: $/docena de atados | I11: Región Metropolitana
A12: Ajo | B12: Chino | C12: Primera | D12: 1500 | E12: 16000 | F12: 16000 | G12: 16000 | H12: $/caja 10 kilos | I12: China
A13: Ajo | B13: Chino | C13: Primera | D13: 2200 | E13: 15000 | F13: 15000 | G13: 15000 | H13: $/malla 10 kilos | I13: China
A14: Alcachofa | B14: Española | C14: Primera | D14: 320 | E14: 15000 | F14: 13000 | G14: 13750 | H14: $/caja 30 unidades | I14: Provincia de Limarí
A15: Alcachofa | B15: Española | C15: Primera | D15: 41000 | E15: 500 | F15: 450 | G15: 482 | H15: $/unidad | I15: Región Metropolitana
A16: Alcachofa | B16: Española | C16: Segunda | D16: 220 | E16: 10000 | F16: 9000 | G16: 9545 | H16: $/caja 40 unidades | I16: Provincia de Limarí
A17: Alcachofa | B17: Española | C17: Segunda | D17: 22000 | E17: 400 | F17: 350 | G17: 373 | H17: $/unidad | I17: Región Metropolitana
A18: Apio | B18: Americana (o) | C18: Primera | D18: 350 | E18: 7000 | F18: 6500 | G18: 6829 | H18: $/docena de matas | I18: Región de Coquimbo
A19: Apio | B19: Americana (o) | C19: Segunda | D19: 350 | E19: 6000 | F19: 5500 | G19: 5714 | H19: $/docena de matas | I19: Región de Coquimbo
A20: Betarraga | B20: Sin especificar | C20: Primera | D20: 24000 | E20: 130 | F20: 130 | G20: 130 | H20: $/unidad | I20: Región Metropolitana
A21: Betarraga | B21: Sin especificar | C21: Segunda | D21: 11000 | E21: 100 | F21: 100 | G21: 100 | H21: $/unidad | I21: Región Metropolitana
... A87: Zapallo italiano | B87: Sin especificar | C87: Primera | D87: 250 | E87: 25000 | F87: 23000 | G87: 24200 | H87: $/caja 50 unidades | I87: Región de O'Higgins
A88: Fuente: elaborado por Odepa.

Sheet Hortalizas_Vega Central Mapocho
A2: Hortalizas
A3: Detalle diario de transacciones producto - variedad - calidad
A4: Día: | B4: =+'Frutas_Lo Valledor'!$B$4 -> 46287
A5: Precios con IVA
A7: Mercado: Vega Central Mapocho
A9: Producto | B9: Variedad/Tipo | C9: Calidad | D9: Volumen | E9: Precio máximo | F9: Precio mínimo | G9: Precio promedio | H9: Unidad de comercialización | I9: Origen
A10: Acelga | B10: Sin especificar | C10: Primera | D10: 250 | E10: 26000 | F10: 24000 | G10: 25000 | H10: $/docena de atados | I10: Región Metropolitana
A11: Acelga | B11: Sin especificar | C11: Segunda | D11: 160 | E11: 19000 | F11: 19000 | G11: 19000 | H11: $/docena de atados | I11: Región Metropolitana
A12: Albahaca | B12: Sin especificar | C12: Primera | D12: 160 | E12: 4000 | F12: 3000 | G12: 3500 | H12: $/paquete | I12: Región de Arica y Parinacota
A13: Alcachofa | B13: Española | C13: Primera | D13: 340 | E13: 16000 | F13: 15000 | G13: 15500 | H13: $/caja 30 unidades | I13: Provincia de Limarí
A14: Alcachofa | B14: Española | C14: Segunda | D14: 250 | E14: 13000 | F14: 13000 | G14: 13000 | H14: $/caja 40 unidades | I14: Provincia de Limarí
A15: Apio | B15: Americana (o) | C15: Primera | D15: 430 | E15: 10000 | F15: 8000 | G15: 9000 | H15: $/docena de matas | I15: Región de Coquimbo
A16: Apio | B16: Americana (o) | C16: Segunda | D16: 250 | E16: 6000 | F16: 6000 | G16: 6000 | H16: $/docena de matas | I16: Región de Coquimbo
A17: Berenjena | B17: Sin especificar | C17: Primera | D17: 160 | E17: 10000 | F17: 8000 | G17: 9000 | H17: $/caja 50 unidades | I17: Región de Arica y Parinacota
A18: Betarraga | B18: Sin especificar | C18: Primera | D18: 7000 | E18: 150 | F18: 130 | G18: 140 | H18: $/unidad | I18: Región Metropolitana
A19: Betarraga | B19: Sin especificar | C19: Segunda | D19: 5200 | E19: 110 | F19: 110 | G19: 110 | H19: $/unidad | I19: Región Metropolitana
A20: Brócoli | B20: Sin especificar | C20: Primera | D20: 1240 | E20: 1000 | F20: 800 | G20: 900 | H20: $/unidad | I20: Región Metropolitana
A21: Brócoli | B21: Sin especificar | C21: Segunda | D21: 970 | E21: 600 | F21: 600 | G21: 600 | H21: $/unidad | I21: Región Metropolitana
... A82: Zapallo italiano | B82: Sin especificar | C82: Primera | D82: 160 | E82: 23000 | F82: 21000 | G82: 22000 | H82: $/caja 50 unidades | I82: Región de Arica y Parinacota
A83: Fuente: elaborado por Odepa.

Sheet Hortalizas_Mapocho Vta.dir
A2: Hortalizas
A3: Detalle diario de transacciones producto - variedad - calidad
A4: Día: | B4: =+'Frutas_Lo Valledor'!$B$4 -> 46287
A5: Precios con IVA
A7: Mercado: Mapocho venta directa
A9: Producto | B9: Variedad/Tipo | C9: Calidad | D9: Volumen | E9: Precio máximo | F9: Precio mínimo | G9: Precio promedio | H9: Unidad de comercialización | I9: Origen
A10: Espárragos | B10: Sin especificar | C10: Banquete | D10: 60 | E10: 18000 | F10: 18000 | G10: 18000 | H10: $/bandeja 10 kilos | I10: Provincia de Linares
A11: Espárragos | B11: Sin especificar | C11: Primera | D11: 85 | E11: 16000 | F11: 16000 | G11: 16000 | H11: $/bandeja 10 kilos | I11: Provincia de Linares
A12: Espárragos | B12: Sin especificar | C12: Segunda | D12: 65 | E12: 14000 | F12: 14000 | G12: 14000 | H12: $/bandeja 10 kilos | I12: Provincia de Linares
A13: Espárragos | B13: Sin especificar | C13: Tercera | D13: 60 | E13: 12000 | F13: 12000 | G13: 12000 | H13: $/bandeja 10 kilos | I13: Provincia de Linares
A14: Tomate | B14: Larga vida | C14: Extra | D14: 250 | E14: 23000 | F14: 23000 | G14: 23000 | H14: $/bandeja 18 kilos | I14: Región de Arica y Parinacota
A15: Tomate | B15: Larga vida | C15: Primera | D15: 280 | E15: 21000 | F15: 21000 | G15: 21000 | H15: $/bandeja 18 kilos | I15: Región de Arica y Parinacota
A16: Tomate | B16: Larga vida | C16: Segunda | D16: 420 | E16: 19000 | F16: 18000 | G16: 18524 | H16: $/bandeja 18 kilos | I16: Región de Arica y Parinacota
A17: Fuente: elaborado por Odepa.

Sheet Hortalizas_Macroferia Talca
A2: Hortalizas
A3: Detalle diario de transacciones producto - variedad - calidad
A4: Día: | B4: =+'Frutas_Lo Valledor'!$B$4 -> 46287
A5: Precios con IVA
A7: Mercado: Macroferia Municipal de Talca
A9: Producto | B9: Variedad/Tipo | C9: Calidad | D9: Volumen | E9: Precio máximo | F9: Precio mínimo | G9: Precio promedio | H9: Unidad de comercialización | I9: Origen
A10: Acelga | B10: Sin especificar | C10: Primera | D10: 500 | E10: 3000 | F10: 3000 | G10: 3000 | H10: $/docena de atados (4 kilos) | I10: Región del Maule
A11: Ajo | B11: Chino | C11: Primera | D11: 300 | E11: 18000 | F11: 18000 | G11: 18000 | H11: $/malla 10 kilos | I11: China
A12: Apio | B12: Americana (o) | C12: Primera | D12: 300 | E12: 18000 | F12: 18000 | G12: 18000 | H12: $/docena de matas | I12: Provincia del Elquí
A13: Betarraga | B13: Sin especificar | C13: Primera | D13: 3000 | E13: 1200 | F13: 1200 | G13: 1200 | H13: $/paquete 5 unidades | I13: Región del Maule
A14: Brócoli | B14: Sin especificar | C14: Segunda | D14: 3000 | E14: 1000 | F14: 1000 | G14: 1000 | H14: $/unidad | I14: Región del Maule
A15: Cebolla | B15: Sin especificar | C15: 1a (guarda) | D15: 1000 | E15: 13000 | F15: 13000 | G15: 13000 | H15: $/malla 15 kilos | I15: Región del Maule
A16: Cebolla | B16: Sin especificar | C16: 1a (guarda) | D16: 1000 | E16: 20000 | F16: 20000 | G16: 20000 | H16: $/malla 25 kilos | I16: Región del Maule
A17: Coliflor | B17: Sin especificar | C17: Segunda | D17: 3000 | E17: 1000 | F17: 1000 | G17: 1000 | H17: $/unidad | I17: Región del Maule
A18: Espárragos | B18: Verde | C18: Primera | D18: 2000 | E18: 1500 | F18: 1300 | G18: 1400 | H18: $/kilo | I18: Provincia de Linares
A19: Lechuga | B19: Conconina(o) | C19: Segunda | D19: 400 | E19: 10000 | F19: 10000 | G19: 10000 | H19: $/caja 12 unidades | I19: Región del Maule
A20: Lechuga | B20: Escarola | C20: Primera | D20: 500 | E20: 23000 | F20: 23000 | G20: 23000 | H20: $/caja 15 unidades | I20: Provincia del Elquí
A21: Lechuga | B21: Española | C21: Primera | D21: 500 | E21: 10000 | F21: 10000 | G21: 10000 | H21: $/caja 12 unidades | I21: Región del Maule
... A33: Zapallo italiano | B33: Sin especificar | C33: Primera | D33: 300 | E33: 18000 | F33: 18000 | G33: 18000 | H33: $/caja 50 unidades | I33: Región de Arica y Parinacota
A34: Fuente: elaborado por Odepa.

Sheet Hortalizas_Femacal
A2: Hortalizas
A3: Detalle diario de transacciones producto - variedad - calidad
A4: Día: | B4: =+'Frutas_Lo Valledor'!$B$4 -> 46287
A5: Precios con IVA
A7: Mercado: Feria Mayorista La Calera (Femacal)
A9: Producto | B9: Variedad/Tipo | C9: Calidad | D9: Volumen | E9: Precio máximo | F9: Precio mínimo | G9: Precio promedio | H9: Unidad de comercialización | I9: Origen
A10: Acelga | B10: Sin especificar | C10: Primera | D10: 95 | E10: 5000 | F10: 4500 | G10: 4737 | H10: $/docena de atados (6 kilos) | I10: Provincia de Quillota
A11: Achicoria | B11: Sin especificar | C11: Primera | D11: 38 | E11: 9000 | F11: 9000 | G11: 9000 | H11: $/caja 16 unidades | I11: Provincia de Quillota
A12: Ajo | B12: Chino | C12: Primera | D12: 40 | E12: 14000 | F12: 14000 | G12: 14000 | H12: $/caja 10 kilos | I12: China
A13: Ajo | B13: Chino | C13: Primera | D13: 40 | E13: 17000 | F13: 17000 | G13: 17000 | H13: $/malla 10 kilos | I13: China
A14: Ají | B14: Inferno | C14: Primera | D14: 20 | E14: 44000 | F14: 44000 | G14: 44000 | H14: $/caja 10 kilos | I14: Región de Arica y Parinacota
A15: Ají | B15: Inferno | C15: Segunda | D15: 28 | E15: 37000 | F15: 37000 | G15: 37000 | H15: $/caja 10 kilos | I15: Región de Arica y Parinacota
A16: Alcachofa | B16: Española | C16: Primera | D16: 70 | E16: 12500 | F16: 12000 | G16: 12179 | H16: $/caja 30 unidades | I16: Provincia de Limarí
A17: Alcachofa | B17: Madrigal | C17: Extra | D17: 45 | E17: 12000 | F17: 12000 | G17: 12000 | H17: $/caja 30 unidades | I17: Provincia de Limarí
A18: Apio | B18: Americana (o) | C18: Primera | D18: 90 | E18: 12000 | F18: 12000 | G18: 12000 | H18: $/docena de matas | I18: Provincia de Limarí
A19: Berenjena | B19: Sin especificar | C19: Primera | D19: 40 | E19: 10000 | F19: 10000 | G19: 10000 | H19: $/caja 40 unidades | I19: Región de Arica y Parinacota
A20: Betarraga | B20: Sin especificar | C20: Primera | D20: 1850 | E20: 1200 | F20: 1100 | G20: 1149 | H20: $/paquete 4 unidades | I20: Provincia de Quillota
A21: Betarraga | B21: Sin especificar | C21: Segunda | D21: 1350 | E21: 850 | F21: 800 | G21: 820 | H21: $/paquete 4 unidades | I21: Provincia de Quillota
... A57: Zapallo italiano | B57: Sin especificar | C57: Primera | D57: 45 | E57: 14000 | F57: 14000 | G57: 14000 | H57: $/caja 50 unidades | I57: Región de Arica y Parinacota
A58: Fuente: elaborado por Odepa.

Sheet Hortalizas_La Palmera
A2: Hortalizas
A3: Detalle diario de transacciones producto - variedad - calidad
A4: Día: | B4: =+'Frutas_Lo Valledor'!$B$4 -> 46287
A5: Precios con IVA
A7: Mercado: Terminal Agropecuario La Palmera
A9: Producto | B9: Variedad/Tipo | C9: Calidad | D9: Volumen | E9: Precio máximo | F9: Precio mínimo | G9: Precio promedio | H9: Unidad de comercialización | I9: Origen
A10: Ajo | B10: Chino | C10: Primera | D10: 500 | E10: 18000 | F10: 17500 | G10: 17750 | H10: $/caja 10 kilos | I10: China
A11: Ajo | B11: Chino | C11: Primera | D11: 560 | E11: 18000 | F11: 17500 | G11: 17750 | H11: $/malla 10 kilos | I11: China
A12: Apio | B12: Americana (o) | C12: Primera | D12: 1000 | E12: 7000 | F12: 6000 | G12: 6500 | H12: $/media docena de matas | I12: Provincia del Elquí
A13: Berenjena | B13: Sin especificar | C13: Primera | D13: 500 | E13: 12000 | F13: 11000 | G13: 11500 | H13: $/caja 40 unidades | I13: Región de Arica y Parinacota
A14: Betarraga | B14: Sin especificar | C14: Primera | D14: 1200 | E14: 800 | F14: 700 | G14: 750 | H14: $/paquete 3 unidades | I14: Provincia del Elquí
A15: Brócoli | B15: Sin especificar | C15: Primera | D15: 2000 | E15: 1200 | F15: 1100 | G15: 1150 | H15: $/unidad | I15: Provincia del Elquí
A16: Camote | B16: Sin especificar | C16: Primera | D16: 500 | E16: 23000 | F16: 22000 | G16: 22500 | H16: $/malla 18 kilos | I16: Perú
A17: Cebolla | B17: Morada(o) | C17: 1a (cosecha) | D17: 2400 | E17: 14000 | F17: 13500 | G17: 13750 | H17: $/malla 18 kilos | I17: Región de Arica y Parinacota
A18: Cebolla | B18: Sin especificar | C18: Primera | D18: 2000 | E18: 12000 | F18: 10000 | G18: 11000 | H18: $/malla 18 kilos | I18: Perú
A19: Cebollín | B19: Sin especificar | C19: Primera | D19: 900 | E19: 6000 | F19: 5500 | G19: 5750 | H19: $/paquete 30 unidades | I19: Provincia del Elquí
A20: Choclo | B20: Dulce o Americano | C20: Primera | D20: 600 | E20: 35000 | F20: 34000 | G20: 34500 | H20: $/malla 60 unidades | I20: Región de Arica y Parinacota
A21: Cilantro | B21: Sin especificar | C21: Primera | D21: 1300 | E21: 2500 | F21: 2000 | G21: 2250 | H21: $/atado 1 a 1,5 kilos | I21: Provincia del Elquí
... A50: Zapallo italiano | B50: Sin especificar | C50: Primera | D50: 600 | E50: 16000 | F50: 15000 | G50: 15500 | H50: $/caja 50 unidades | I50: Región de Arica y Parinacota
A51: Fuente: elaborado por Odepa.

Sheet Hortalizas_Solcoagro
A2: Hortalizas
A3: Detalle diario de transacciones producto - variedad - calidad
A4: Día: | B4: 46287
A5: Precios con IVA
A7: Mercado: Comercializadora del Agro de Limarí (Solcoagro)
A9: Producto | B9: Variedad/Tipo | C9: Calidad | D9: Volumen | E9: Precio máximo | F9: Precio mínimo | G9: Precio promedio | H9: Unidad de comercialización | I9: Origen
A10: Sin transacciones mayoristas

Sheet Hortalizas_Vega Monumental
A2: Hortalizas
A3: Detalle diario de transacciones producto - variedad - calidad
A4: Día: | B4: =+'Frutas_Lo Valledor'!$B$4 -> 46287
A5: Precios con IVA
A7: Mercado: Vega Monumental de Concepción
A9: Producto | B9: Variedad/Tipo | C9: Calidad | D9: Volumen | E9: Precio máximo | F9: Precio mínimo | G9: Precio promedio | H9: Unidad de comercialización | I9: Origen
A10: Acelga | B10: Sin especificar | C10: Primera | D10: 120 | E10: 850 | F10: 850 | G10: 850 | H10: $/atado 0,5 a 1 kilo | I10: Región de Ñuble
A11: Acelga | B11: Sin especificar | C11: Segunda | D11: 788 | E11: 650 | F11: 650 | G11: 650 | H11: $/atado 0,5 a 1 kilo | I11: Región de Ñuble
A12: Ajo | B12: Chino | C12: Primera | D12: 250 | E12: 15000 | F12: 15000 | G12: 15000 | H12: $/caja 10 kilos | I12: China
A13: Apio | B13: Americana (o) | C13: Primera | D13: 250 | E13: 10000 | F13: 10000 | G13: 10000 | H13: $/docena de matas | I13: Región de Coquimbo
A14: Apio | B14: Americana (o) | C14: Segunda | D14: 150 | E14: 7000 | F14: 7000 | G14: 7000 | H14: $/docena de matas | I14: Región de Coquimbo
A15: Berenjena | B15: Sin especificar | C15: Primera | D15: 100 | E15: 10000 | F15: 10000 | G15: 10000 | H15: $/caja 50 unidades | I15: Región de Arica y Parinacota
A16: Betarraga | B16: Sin especificar | C16: Primera | D16: 150 | E16: 1000 | F16: 1000 | G16: 1000 | H16: $/paquete 5 unidades | I16: Región Metropolitana
A17: Betarraga | B17: Sin especificar | C17: Segunda | D17: 250 | E17: 800 | F17: 800 | G17: 800 | H17: $/paquete 5 unidades | I17: Región Metropolitana
A18: Brócoli | B18: Sin especificar | C18: Primera | D18: 1500 | E18: 1000 | F18: 1000 | G18: 1000 | H18: $/unidad | I18: Región Metropolitana
A19: Brócoli | B19: Sin especificar | C19: Segunda | D19: 1000 | E19: 800 | F19: 800 | G19: 800 | H19: $/unidad | I19: Región Metropolitana
A20: Cebolla | B20: Sin especificar | C20: 1a (guarda) | D20: 200 | E20: 15000 | F20: 15000 | G20: 15000 | H20: $/malla 17 kilos | I20: Región de O'Higgins
A21: Cebolla | B21: Sin especificar | C21: 2a (guarda) | D21: 200 | E21: 11000 | F21: 11000 | G21: 11000 | H21: $/malla 17 kilos | I21: Región de O'Higgins
... A38: Zanahoria | B38: Sin especificar | C38: Primera | D38: 120 | E38: 23000 | F38: 23000 | G38: 23000 | H38: $/saco 20 kilos | I38: Región de Ñuble
A39: Fuente: elaborado por Odepa.

Sheet Hortalizas_Lagunita Pto.Montt
A2: Hortalizas
A3: Detalle diario de transacciones producto - variedad - calidad
A4: Día: | B4: =+'Frutas_Lo Valledor'!$B$4 -> 46287
A5: Precios con IVA
A7: Mercado: Feria Lagunita de Puerto Montt
A9: Producto | B9: Variedad/Tipo | C9: Calidad | D9: Volumen | E9: Precio máximo | F9: Precio mínimo | G9: Precio promedio | H9: Unidad de comercialización | I9: Origen
A10: Acelga | B10: Sin especificar | C10: Primera | D10: 50 | E10: 13000 | F10: 13000 | G10: 13000 | H10: $/docena de atados (12 kilos) | I10: Región de La Araucanía
A11: Ajo | B11: Chino | C11: Primera | D11: 220 | E11: 22000 | F11: 22000 | G11: 22000 | H11: $/caja 10 kilos | I11: China
A12: Apio | B12: Americana (o) | C12: Primera | D12: 50 | E12: 15000 | F12: 14000 | G12: 14500 | H12: $/docena de matas | I12: Región de Coquimbo
A13: Betarraga | B13: Sin especificar | C13: Primera | D13: 500 | E13: 1800 | F13: 1800 | G13: 1800 | H13: $/paquete 5 unidades | I13: Región Metropolitana
A14: Betarraga | B14: Sin especificar | C14: Segunda | D14: 500 | E14: 1500 | F14: 1500 | G14: 1500 | H14: $/paquete 5 unidades | I14: Región Metropolitana
A15: Brócoli | B15: Sin especificar | C15: Primera | D15: 500 | E15: 1800 | F15: 1800 | G15: 1800 | H15: $/unidad | I15: Región Metropolitana
A16: Brócoli | B16: Sin especificar | C16: Segunda | D16: 500 | E16: 1500 | F16: 1500 | G16: 1500 | H16: $/unidad | I16: Región Metropolitana
A17: Cebolla | B17: Sin especificar | C17: 1a (guarda) | D17: 1000 | E17: 18000 | F17: 17000 | G17: 17500 | H17: $/malla 17 kilos | I17: Región de O'Higgins
A18: Cebollín | B18: Sin especificar | C18: Primera | D18: 150 | E18: 8000 | F18: 7000 | G18: 7533 | H18: $/paquete 36 unidades | I18: Región Metropolitana
A19: Ciboulette | B19: Sin especificar | C19: Primera | D19: 200 | E19: 4000 | F19: 4000 | G19: 4000 | H19: $/docena de atados | I19: Región Metropolitana
A20: Cilantro | B20: Sin especificar | C20: Primera | D20: 150 | E20: 18000 | F20: 17000 | G20: 17467 | H20: $/caja 36 atados | I20: Región Metropolitana
A21: Coliflor | B21: Sin especificar | C21: Primera | D21: 500 | E21: 1800 | F21: 1800 | G21: 1800 | H21: $/unidad | I21: Región Metropolitana
... A42: Zapallo italiano | B42: Sin especificar | C42: Primera | D42: 100 | E42: 30000 | F42: 28000 | G42: 29000 | H42: $/caja 50 unidades | I42: Región de Arica y Parinacota
A43: Fuente: elaborado por Odepa.

Sheet Hortalizas_Vega Modelo Temuco
A2: Hortalizas
A3: Detalle diario de transacciones producto - variedad - calidad
A4: Día: | B4: =+'Frutas_Lo Valledor'!$B$4 -> 46287
A5: Precios con IVA
A7: Mercado: Vega Modelo de Temuco
A9: Producto | B9: Variedad/Tipo | C9: Calidad | D9: Volumen | E9: Precio máximo | F9: Precio mínimo | G9: Precio promedio | H9: Unidad de comercialización | I9: Origen
A10: Acelga | B10: Sin especificar | C10: Primera | D10: 30 | E10: 10000 | F10: 10000 | G10: 10000 | H10: $/docena de atados (12 kilos) | I10: Provincia de Cautín
A11: Ajo | B11: Chino | C11: Primera | D11: 400 | E11: 19000 | F11: 19000 | G11: 19000 | H11: $/caja 10 kilos | I11: China
A12: Ajo | B12: Chino | C12: Primera | D12: 150 | E12: 19000 | F12: 19000 | G12: 19000 | H12: $/malla 10 kilos | I12: China
A13: Ají | B13: Amarillo | C13: Primera | D13: 15 | E13: 50000 | F13: 50000 | G13: 50000 | H13: $/caja 15 kilos | I13: Región de Arica y Parinacota
A14: Ají | B14: Amarillo | C14: Segunda | D14: 20 | E14: 40000 | F14: 40000 | G14: 40000 | H14: $/caja 15 kilos | I14: Región de Arica y Parinacota
A15: Ají | B15: Inferno | C15: Extra | D15: 30 | E15: 50000 | F15: 50000 | G15: 50000 | H15: $/caja 10 kilos | I15: Región de Arica y Parinacota
A16: Alcachofa | B16: Española | C16: Primera | D16: 40 | E16: 20000 | F16: 20000 | G16: 20000 | H16: $/caja 30 unidades | I16: Región Metropolitana
A17: Alcachofa | B17: Madrigal | C17: Primera | D17: 100 | E17: 20000 | F17: 20000 | G17: 20000 | H17: $/caja 40 unidades | I17: Región Metropolitana
A18: Apio | B18: Americana (o) | C18: Primera | D18: 120 | E18: 13000 | F18: 13000 | G18: 13000 | H18: $/caja 8 unidades | I18: Provincia del Elquí
A19: Apio | B19: Americana (o) | C19: Primera | D19: 20 | E19: 15000 | F19: 15000 | G19: 15000 | H19: $/docena de matas | I19: Región Metropolitana
A20: Berenjena | B20: Sin especificar | C20: Primera | D20: 30 | E20: 18000 | F20: 18000 | G20: 18000 | H20: $/caja 40 unidades | I20: Región de Arica y Parinacota
A21: Betarraga | B21: Sin especificar | C21: Primera | D21: 50 | E21: 9000 | F21: 9000 | G21: 9000 | H21: $/docena de paquetes | I21: Provincia de Cautín
... A69: Zapallo italiano | B69: Sin especificar | C69: Primera | D69: 170 | E69: 22000 | F69: 20000 | G69: 21176 | H69: $/caja 50 unidades | I69: Región de Arica y Parinacota
A70: Fuente: elaborado por Odepa.

Sheet Hortalizas_Agrochillan
A2: Hortalizas
A3: Detalle diario de transacciones producto - variedad - calidad
A4: Día: | B4: =+'Frutas_Lo Valledor'!$B$4 -> 46287
A5: Precios con IVA
A7: Mercado: Terminal Hortofrutícola de Chillán
A9: Producto | B9: Variedad/Tipo | C9: Calidad | D9: Volumen | E9: Precio máximo | F9: Precio mínimo | G9: Precio promedio | H9: Unidad de comercialización | I9: Origen
A10: Acelga | B10: Sin especificar | C10: Primera | D10: 100 | E10: 800 | F10: 800 | G10: 800 | H10: $/atado 0,5 a 1 kilo | I10: Región de Ñuble
A11: Alcachofa | B11: Española | C11: Primera | D11: 80 | E11: 18000 | F11: 18000 | G11: 18000 | H11: $/caja 30 unidades | I11: Región de Coquimbo
A12: Apio | B12: Americana (o) | C12: Primera | D12: 80 | E12: 14000 | F12: 14000 | G12: 14000 | H12: $/docena de matas | I12: Región de Coquimbo
A13: Apio | B13: Americana (o) | C13: Segunda | D13: 80 | E13: 11000 | F13: 11000 | G13: 11000 | H13: $/docena de matas | I13: Región de Coquimbo
A14: Betarraga | B14: Sin especificar | C14: Primera | D14: 500 | E14: 1200 | F14: 1200 | G14: 1200 | H14: $/paquete 5 unidades | I14: Provincia de Diguillín
A15: Betarraga | B15: Sin especificar | C15: Segunda | D15: 500 | E15: 1000 | F15: 1000 | G15: 1000 | H15: $/paquete 5 unidades | I15: Provincia de Diguillín
A16: Betarraga | B16: Sin especificar | C16: Tercera | D16: 500 | E16: 800 | F16: 800 | G16: 800 | H16: $/paquete 5 unidades | I16: Provincia de Diguillín
A17: Brócoli | B17: Sin especificar | C17: Primera | D17: 500 | E17: 1200 | F17: 1200 | G17: 1200 | H17: $/unidad | I17: Provincia de Diguillín
A18: Brócoli | B18: Sin especificar | C18: Primera | D18: 1000 | E18: 1300 | F18: 1200 | G18: 1250 | H18: $/unidad | I18: Región del Maule
A19: Brócoli | B19: Sin especificar | C19: Segunda | D19: 500 | E19: 1000 | F19: 1000 | G19: 1000 | H19: $/unidad | I19: Provincia de Diguillín
A20: Cebolla | B20: Sin especificar | C20: 1a (guarda) | D20: 200 | E20: 10000 | F20: 10000 | G20: 10000 | H20: $/malla 15 kilos | I20: Región del Maule
A21: Cebolla | B21: Sin especificar | C21: 1a (guarda) | D21: 200 | E21: 18000 | F21: 18000 | G21: 18000 | H21: $/malla 25 kilos | I21: Región del Maule
... A35: Zapallo italiano | B35: Sin especificar | C35: Primera | D35: 100 | E35: 20000 | F35: 19000 | G35: 19500 | H35: $/caja 50 unidades | I35: Región de Arica y Parinacota
A36: Fuente: elaborado por Odepa.

Sheet Hortalizas_Agronor
A2: Hortalizas
A3: Detalle diario de transacciones producto - variedad - calidad
A4: Día: | B4: =+'Frutas_Lo Valledor'!$B$4 -> 46287
A5: Precios con IVA
A7: Mercado: Agrícola del Norte de Arica
A9: Producto | B9: Variedad/Tipo | C9: Calidad | D9: Volumen | E9: Precio máximo | F9: Precio mínimo | G9: Precio promedio | H9: Unidad de comercialización | I9: Origen
A10: Cebolla | B10: Sin especificar | C10: 1a (cosecha) | D10: 260 | E10: 15000 | F10: 14000 | G10: 14415 | H10: $/malla 18 kilos | I10: Región de Arica y Parinacota
A11: Cebolla | B11: Sin especificar | C11: 2a (cosecha) | D11: 350 | E11: 13000 | F11: 11000 | G11: 11914 | H11: $/malla 18 kilos | I11: Región de Arica y Parinacota
A12: Cebolla | B12: Sin especificar | C12: 3a (cosecha) | D12: 420 | E12: 11000 | F12: 8000 | G12: 9786 | H12: $/malla 18 kilos | I12: Región de Arica y Parinacota
A13: Cebollín baby | B13: Sin especificar | C13: Primera | D13: 250 | E13: 4000 | F13: 3500 | G13: 3800 | H13: $/paquete 1,5 a 2 kilos | I13: Región de Arica y Parinacota
A14: Lechuga | B14: Conconina(o) | C14: Segunda | D14: 220 | E14: 900 | F14: 800 | G14: 845 | H14: $/unidad | I14: Región de Arica y Parinacota
A15: Lechuga | B15: Conconina(o) | C15: Tercera | D15: 250 | E15: 800 | F15: 600 | G15: 720 | H15: $/unidad | I15: Región de Arica y Parinacota
A16: Lechuga | B16: Escarola | C16: Primera | D16: 280 | E16: 10000 | F16: 8000 | G16: 8714 | H16: $/caja 12 unidades | I16: Región de Arica y Parinacota
A17: Lechuga | B17: Escarola | C17: Segunda | D17: 350 | E17: 10000 | F17: 8000 | G17: 8857 | H17: $/caja 18 unidades | I17: Región de Arica y Parinacota
A18: Lechuga | B18: Marina | C18: Primera | D18: 310 | E18: 10000 | F18: 8000 | G18: 8968 | H18: $/caja 12 unidades | I18: Región de Arica y Parinacota
A19: Lechuga | B19: Marina | C19: Segunda | D19: 370 | E19: 10000 | F19: 8000 | G19: 9027 | H19: $/caja 18 unidades | I19: Región de Arica y Parinacota
A20: Tomate | B20: Larga vida | C20: Primera | D20: 200 | E20: 10000 | F20: 8000 | G20: 9000 | H20: $/bandeja 18 kilos | I20: Región de Arica y Parinacota
A21: Tomate | B21: Larga vida | C21: Primera | D21: 250 | E21: 3000 | F21: 2500 | G21: 2700 | H21: $/caja 8 kilos | I21: Región de Arica y Parinacota
... A28: Zanahoria | B28: Sin especificar | C28: Tercera | D28: 30 | E28: 16000 | F28: 14000 | G28: 15000 | H28: $/saco 25 kilos | I28: Región de Arica y Parinacota
A29: Fuente: elaborado por Odepa.
